BEGIN:VCALENDAR
VERSION:2.0
PRODID:-//Germania Club of Hamilton - ECPv6.15.20//NONSGML v1.0//EN
CALSCALE:GREGORIAN
METHOD:PUBLISH
X-ORIGINAL-URL:https://germaniaclub.ca
X-WR-CALDESC:Events for Germania Club of Hamilton
REFRESH-INTERVAL;VALUE=DURATION:PT1H
X-Robots-Tag:noindex
X-PUBLISHED-TTL:PT1H
BEGIN:VTIMEZONE
TZID:America/Toronto
BEGIN:DAYLIGHT
TZOFFSETFROM:-0500
TZOFFSETTO:-0400
TZNAME:EDT
DTSTART:20240310T070000
END:DAYLIGHT
BEGIN:STANDARD
TZOFFSETFROM:-0400
TZOFFSETTO:-0500
TZNAME:EST
DTSTART:20241103T060000
END:STANDARD
BEGIN:DAYLIGHT
TZOFFSETFROM:-0500
TZOFFSETTO:-0400
TZNAME:EDT
DTSTART:20250309T070000
END:DAYLIGHT
BEGIN:STANDARD
TZOFFSETFROM:-0400
TZOFFSETTO:-0500
TZNAME:EST
DTSTART:20251102T060000
END:STANDARD
BEGIN:DAYLIGHT
TZOFFSETFROM:-0500
TZOFFSETTO:-0400
TZNAME:EDT
DTSTART:20260308T070000
END:DAYLIGHT
BEGIN:STANDARD
TZOFFSETFROM:-0400
TZOFFSETTO:-0500
TZNAME:EST
DTSTART:20261101T060000
END:STANDARD
END:VTIMEZONE
BEGIN:VEVENT
DTSTART;TZID=America/Toronto:20250826T193000
DTEND;TZID=America/Toronto:20250826T210000
DTSTAMP:20260421T140845
CREATED:20250807T115527Z
LAST-MODIFIED:20250807T115826Z
UID:4678-1756236600-1756242000@germaniaclub.ca
SUMMARY:Oktoberfest Planning Committee Meeting
DESCRIPTION:Still spaces to volunteer on the day of the event\, including ticket sales at the door. \nIf interested in volunteering\, click the link below to sign-up: \nVolunteer at Germania Club
URL:https://germaniaclub.ca/event/oktoberfest-planning-committee-meeting/
LOCATION:Germania Club Restaurant
END:VEVENT
END:VCALENDAR