BEGIN:VCALENDAR
VERSION:2.0
PRODID:-//Germania Club of Hamilton - ECPv6.15.20//NONSGML v1.0//EN
CALSCALE:GREGORIAN
METHOD:PUBLISH
X-ORIGINAL-URL:https://germaniaclub.ca
X-WR-CALDESC:Events for Germania Club of Hamilton
REFRESH-INTERVAL;VALUE=DURATION:PT1H
X-Robots-Tag:noindex
X-PUBLISHED-TTL:PT1H
BEGIN:VTIMEZONE
TZID:UTC
BEGIN:STANDARD
TZOFFSETFROM:+0000
TZOFFSETTO:+0000
TZNAME:UTC
DTSTART:20240101T000000
END:STANDARD
END:VTIMEZONE
BEGIN:VEVENT
DTSTART;TZID=UTC:20251018T130000
DTEND;TZID=UTC:20251018T180000
DTSTAMP:20260421T053509
CREATED:20250710T200926Z
LAST-MODIFIED:20251004T112841Z
UID:2330-1760792400-1760810400@germaniaclub.ca
SUMMARY:Campers' Deutsches Essen und Gemütlichkeit
DESCRIPTION:See pictures from the last Deutsches Essen und Gemütlichkeit:click here
URL:https://germaniaclub.ca/event/campers-deutsches-essen-und-gemutlichkeit/
LOCATION:Germania Park\, 4240 Trinity Church Rd.\, Binbrook\, ON\, L0R 1W0\, Canada
END:VEVENT
END:VCALENDAR