BEGIN:VCALENDAR
VERSION:2.0
PRODID:-//Germania Club of Hamilton - ECPv6.15.20//NONSGML v1.0//EN
CALSCALE:GREGORIAN
METHOD:PUBLISH
X-WR-CALNAME:Germania Club of Hamilton
X-ORIGINAL-URL:https://germaniaclub.ca
X-WR-CALDESC:Events for Germania Club of Hamilton
REFRESH-INTERVAL;VALUE=DURATION:PT1H
X-Robots-Tag:noindex
X-PUBLISHED-TTL:PT1H
BEGIN:VTIMEZONE
TZID:America/Toronto
BEGIN:DAYLIGHT
TZOFFSETFROM:-0500
TZOFFSETTO:-0400
TZNAME:EDT
DTSTART:20240310T070000
END:DAYLIGHT
BEGIN:STANDARD
TZOFFSETFROM:-0400
TZOFFSETTO:-0500
TZNAME:EST
DTSTART:20241103T060000
END:STANDARD
BEGIN:DAYLIGHT
TZOFFSETFROM:-0500
TZOFFSETTO:-0400
TZNAME:EDT
DTSTART:20250309T070000
END:DAYLIGHT
BEGIN:STANDARD
TZOFFSETFROM:-0400
TZOFFSETTO:-0500
TZNAME:EST
DTSTART:20251102T060000
END:STANDARD
BEGIN:DAYLIGHT
TZOFFSETFROM:-0500
TZOFFSETTO:-0400
TZNAME:EDT
DTSTART:20260308T070000
END:DAYLIGHT
BEGIN:STANDARD
TZOFFSETFROM:-0400
TZOFFSETTO:-0500
TZNAME:EST
DTSTART:20261101T060000
END:STANDARD
BEGIN:DAYLIGHT
TZOFFSETFROM:-0500
TZOFFSETTO:-0400
TZNAME:EDT
DTSTART:20270314T070000
END:DAYLIGHT
BEGIN:STANDARD
TZOFFSETFROM:-0400
TZOFFSETTO:-0500
TZNAME:EST
DTSTART:20271107T060000
END:STANDARD
END:VTIMEZONE
BEGIN:VTIMEZONE
TZID:UTC
BEGIN:STANDARD
TZOFFSETFROM:+0000
TZOFFSETTO:+0000
TZNAME:UTC
DTSTART:20240101T000000
END:STANDARD
END:VTIMEZONE
BEGIN:VEVENT
DTSTART;VALUE=DATE:20260403
DTEND;VALUE=DATE:20260404
DTSTAMP:20260419T235152
CREATED:20251218T130156Z
LAST-MODIFIED:20260217T020326Z
UID:5688-1775174400-1775260799@germaniaclub.ca
SUMMARY:Easter Egg Hunt
DESCRIPTION:
URL:https://germaniaclub.ca/event/easter-egg-hunt/
LOCATION:Germania Club of Hamilton\, 863 King St.E.\, Hamilton\, ON\, L8M 1B5\, Canada
END:VEVENT
BEGIN:VEVENT
DTSTART;TZID=America/Toronto:20260322T113000
DTEND;TZID=America/Toronto:20260322T180000
DTSTAMP:20260419T235152
CREATED:20251218T130110Z
LAST-MODIFIED:20260311T011807Z
UID:5686-1774179000-1774202400@germaniaclub.ca
SUMMARY:Annual General Meeting
DESCRIPTION:
URL:https://germaniaclub.ca/event/annual-general-meeting/
LOCATION:Germania Club Large Hall\, 863 King Street East\, Hamilton\, ON\, L8M 1B5\, Canada
END:VEVENT
BEGIN:VEVENT
DTSTART;VALUE=DATE:20260217
DTEND;VALUE=DATE:20260218
DTSTAMP:20260419T235152
CREATED:20251218T125953Z
LAST-MODIFIED:20251218T125953Z
UID:5684-1771286400-1771372799@germaniaclub.ca
SUMMARY:Fat Tuesday
DESCRIPTION:
URL:https://germaniaclub.ca/event/fat-tuesday/
LOCATION:Germania Club of Hamilton\, 863 King St.E.\, Hamilton\, ON\, L8M 1B5\, Canada
END:VEVENT
BEGIN:VEVENT
DTSTART;TZID=America/Toronto:20251231T133000
DTEND;TZID=America/Toronto:20251231T210000
DTSTAMP:20260419T235152
CREATED:20251030T115125Z
LAST-MODIFIED:20251120T182927Z
UID:5499-1767187800-1767214800@germaniaclub.ca
SUMMARY:New Year Eve
DESCRIPTION:Ring in the New Year on German Time with Die Powerhaus Band\n \n 
URL:https://germaniaclub.ca/event/new-year-eve/
LOCATION:Germania Club Large Hall\, 863 King Street East\, Hamilton\, ON\, L8M 1B5\, Canada
ATTACH;FMTTYPE=image/jpeg:https://germaniaclub.ca/wp-content/uploads/2025/10/GC-NYE-Invite.jpg
END:VEVENT
BEGIN:VEVENT
DTSTART;TZID=America/Toronto:20251218T170000
DTEND;TZID=America/Toronto:20251218T210000
DTSTAMP:20260419T235152
CREATED:20251216T021400Z
LAST-MODIFIED:20251216T023735Z
UID:5680-1766077200-1766091600@germaniaclub.ca
SUMMARY:Celebration of life for Klaus Ludecke
DESCRIPTION:Join us on December 18th—Klaus’s birthday—to celebrate his life one last time. We’ll gather from 5:00 p.m. until people run out of stories to share. \nFood and drinks will be provided.
URL:https://germaniaclub.ca/event/celebration-of-life-for-klaus-ludecke/
LOCATION:Germania Club of Hamilton\, 863 King St.E.\, Hamilton\, ON\, L8M 1B5\, Canada
ATTACH;FMTTYPE=image/jpeg:https://germaniaclub.ca/wp-content/uploads/2025/11/WhatsApp-Image-2025-11-18-at-19.13.12_967b5e33-1.jpg
END:VEVENT
BEGIN:VEVENT
DTSTART;TZID=UTC:20251214T140000
DTEND;TZID=UTC:20251214T180000
DTSTAMP:20260419T235152
CREATED:20250729T012104Z
LAST-MODIFIED:20250729T071049Z
UID:4658-1765720800-1765735200@germaniaclub.ca
SUMMARY:Christmas Sing Along with the Choir
DESCRIPTION:
URL:https://germaniaclub.ca/event/christmas-sing-along-with-the-choir/
LOCATION:Germania Club of Hamilton\, 863 King St.E.\, Hamilton\, ON\, L8M 1B5\, Canada
END:VEVENT
BEGIN:VEVENT
DTSTART;TZID=UTC:20251123T110000
DTEND;TZID=UTC:20251123T110000
DTSTAMP:20260419T235152
CREATED:20250715T042520Z
LAST-MODIFIED:20250828T025938Z
UID:4374-1763895600-1763895600@germaniaclub.ca
SUMMARY:Fischer & Jäger Turkey Shoot
DESCRIPTION:Hot Lunch will be available – Goulash Soup or Chilli\nHot & Cold Refreshments are also available \nTurkey Shoot2025 flyer
URL:https://germaniaclub.ca/event/fischer-jager-turkey-shoot/
LOCATION:Germania Park\, 4240 Trinity Church Rd.\, Binbrook\, ON\, L0R 1W0\, Canada
END:VEVENT
BEGIN:VEVENT
DTSTART;TZID=UTC:20251116T110000
DTEND;TZID=UTC:20251116T150000
DTSTAMP:20260419T235152
CREATED:20250715T042422Z
LAST-MODIFIED:20250824T111146Z
UID:4372-1763290800-1763305200@germaniaclub.ca
SUMMARY:Frauenverein Craft Sale & Bazaar
DESCRIPTION:Christmas Bazaar 2025
URL:https://germaniaclub.ca/event/frauenverein-craft-sale-bazaar/
LOCATION:Germania Club Large Hall\, 863 King Street East\, Hamilton\, ON\, L8M 1B5\, Canada
END:VEVENT
BEGIN:VEVENT
DTSTART;TZID=UTC:20251109T130000
DTEND;TZID=UTC:20251109T170000
DTSTAMP:20260419T235152
CREATED:20250630T061833Z
LAST-MODIFIED:20250702T021820Z
UID:866-1762693200-1762707600@germaniaclub.ca
SUMMARY:Member Memorial
DESCRIPTION:
URL:https://germaniaclub.ca/event/member-memorial/
LOCATION:Germania Park\, 4240 Trinity Church Rd.\, Binbrook\, ON\, L0R 1W0\, Canada
END:VEVENT
BEGIN:VEVENT
DTSTART;TZID=UTC:20251102T140000
DTEND;TZID=UTC:20251102T180000
DTSTAMP:20260419T235152
CREATED:20250729T011906Z
LAST-MODIFIED:20251025T150539Z
UID:4653-1762092000-1762106400@germaniaclub.ca
SUMMARY:Choir Winefest
DESCRIPTION:Dancing with the Golden Keys
URL:https://germaniaclub.ca/event/choir-winefest/
LOCATION:Germania Club of Hamilton\, 863 King St.E.\, Hamilton\, ON\, L8M 1B5\, Canada
ATTACH;FMTTYPE=image/jpeg:https://germaniaclub.ca/wp-content/uploads/2025/07/560683369_1105352891789218_7844422162724742428_n.jpg
END:VEVENT
BEGIN:VEVENT
DTSTART;TZID=America/Toronto:20251025T213000
DTEND;TZID=America/Toronto:20251025T213000
DTSTAMP:20260419T235152
CREATED:20251006T115821Z
LAST-MODIFIED:20251006T115939Z
UID:5443-1761427800-1761427800@germaniaclub.ca
SUMMARY:Ghost Walk at the Germania Club
DESCRIPTION:Ghost walk flyer \n16 years or older
URL:https://germaniaclub.ca/event/ghost-walk-at-the-germania-club-2/
LOCATION:ON
END:VEVENT
BEGIN:VEVENT
DTSTART;TZID=America/Toronto:20251025T170000
DTEND;TZID=America/Toronto:20251025T203000
DTSTAMP:20260419T235152
CREATED:20251007T022549Z
LAST-MODIFIED:20251007T022549Z
UID:5452-1761411600-1761424200@germaniaclub.ca
SUMMARY:Kids Haunted House
DESCRIPTION:$10 per child. Children under 2\, FREE. One FREE adult per child. Additional adult\, $3 each. Haunted house\, candy\, movie\, games and crafts. Light food snacks and drinks are available for purchase. \nKids Haunted House Flyer 
URL:https://germaniaclub.ca/event/kids-haunted-house-3/
LOCATION:Germania Club Large Hall\, 863 King Street East\, Hamilton\, ON\, L8M 1B5\, Canada
END:VEVENT
BEGIN:VEVENT
DTSTART;TZID=America/Toronto:20251025T130000
DTEND;TZID=America/Toronto:20251025T163000
DTSTAMP:20260419T235152
CREATED:20251007T021651Z
LAST-MODIFIED:20251007T022406Z
UID:5450-1761397200-1761409800@germaniaclub.ca
SUMMARY:Kids Haunted House
DESCRIPTION:$10 per child. Children under 2\, FREE. One FREE adult per child. Additional adult\, $3 each. Haunted house\, candy\, movie\, games and crafts. Light food snacks and drinks are available for purchase. \nKids Haunted House Flyer 
URL:https://germaniaclub.ca/event/kids-haunted-house-2/
LOCATION:Germania Club Large Hall\, 863 King Street East\, Hamilton\, ON\, L8M 1B5\, Canada
END:VEVENT
BEGIN:VEVENT
DTSTART;TZID=America/Toronto:20251024T213000
DTEND;TZID=America/Toronto:20251024T213000
DTSTAMP:20260419T235152
CREATED:20251006T115231Z
LAST-MODIFIED:20251006T120033Z
UID:5430-1761341400-1761341400@germaniaclub.ca
SUMMARY:Ghost Walk at the Germania Club
DESCRIPTION:Ghost walk flyer \n16 years or older
URL:https://germaniaclub.ca/event/ghost-walk-at-the-germania-club/
LOCATION:ON
END:VEVENT
BEGIN:VEVENT
DTSTART;TZID=America/Toronto:20251024T170000
DTEND;TZID=America/Toronto:20251024T203000
DTSTAMP:20260419T235152
CREATED:20251007T021415Z
LAST-MODIFIED:20251007T021415Z
UID:5447-1761325200-1761337800@germaniaclub.ca
SUMMARY:Kids Haunted House
DESCRIPTION:$10 per child. Children under 2\, FREE. One FREE adult per child. Additional adult\, $3 each. Haunted house\, candy\, movie\, games and crafts. Light food snacks and drinks are available for purchase. \nKids Haunted House Flyer 
URL:https://germaniaclub.ca/event/kids-haunted-house/
LOCATION:ON
END:VEVENT
BEGIN:VEVENT
DTSTART;TZID=UTC:20251018T130000
DTEND;TZID=UTC:20251018T180000
DTSTAMP:20260419T235152
CREATED:20250710T200926Z
LAST-MODIFIED:20251004T112841Z
UID:2330-1760792400-1760810400@germaniaclub.ca
SUMMARY:Campers' Deutsches Essen und Gemütlichkeit
DESCRIPTION:See pictures from the last Deutsches Essen und Gemütlichkeit:click here
URL:https://germaniaclub.ca/event/campers-deutsches-essen-und-gemutlichkeit/
LOCATION:Germania Park\, 4240 Trinity Church Rd.\, Binbrook\, ON\, L0R 1W0\, Canada
END:VEVENT
BEGIN:VEVENT
DTSTART;TZID=UTC:20251005T133000
DTEND;TZID=UTC:20251005T230000
DTSTAMP:20260419T235152
CREATED:20250630T061743Z
LAST-MODIFIED:20250904T005056Z
UID:864-1759671000-1759705200@germaniaclub.ca
SUMMARY:Stiftungsfest
DESCRIPTION:
URL:https://germaniaclub.ca/event/stiftungsfest/
LOCATION:Germania Club of Hamilton\, 863 King St.E.\, Hamilton\, ON\, L8M 1B5\, Canada
END:VEVENT
BEGIN:VEVENT
DTSTART;TZID=America/Toronto:20250928T120000
DTEND;TZID=America/Toronto:20250928T140000
DTSTAMP:20260419T235152
CREATED:20250822T174319Z
LAST-MODIFIED:20250905T025803Z
UID:4815-1759060800-1759068000@germaniaclub.ca
SUMMARY:Sunday Lunch
DESCRIPTION:Salad\, Glazed Pork Medallions\, Red Cabbage\, Potatoes\, Fruit Parfait.\nCost $21.95 plus tax\nChildren 5 -12 1/2 price\nFollowed by a FREE MOVIE AFTERNOON starting at 2.30 pm\nVorfilm: Wildes Deutschland\nHauptfilm: Elly Beinhorn –\nAlleinflug (2025) With Englisch Subtitles.\nCoffee and cake will be available
URL:https://germaniaclub.ca/event/sunday-lunch/
LOCATION:Germania Club of Hamilton\, 863 King St.E.\, Hamilton\, ON\, L8M 1B5\, Canada
END:VEVENT
BEGIN:VEVENT
DTSTART;TZID=America/Toronto:20250923T190000
DTEND;TZID=America/Toronto:20250923T210000
DTSTAMP:20260419T235152
CREATED:20250906T114232Z
LAST-MODIFIED:20250906T114232Z
UID:4977-1758654000-1758661200@germaniaclub.ca
SUMMARY:Members’ Meeting
DESCRIPTION:
URL:https://germaniaclub.ca/event/members-meeting/
LOCATION:Germania Club Large Hall\, 863 King Street East\, Hamilton\, ON\, L8M 1B5\, Canada
END:VEVENT
BEGIN:VEVENT
DTSTART;TZID=UTC:20250920T150000
DTEND;TZID=UTC:20250921T020000
DTSTAMP:20260419T235152
CREATED:20250702T021628Z
LAST-MODIFIED:20250913T192159Z
UID:1442-1758380400-1758420000@germaniaclub.ca
SUMMARY:Steel City Oktoberfest in the Hammer
DESCRIPTION:2025 Oktoberfest Flyer
URL:https://germaniaclub.ca/event/steel-city-oktoberfest-in-the-hammer/
LOCATION:Germania Club of Hamilton\, 863 King St.E.\, Hamilton\, ON\, L8M 1B5\, Canada
END:VEVENT
BEGIN:VEVENT
DTSTART;TZID=America/Toronto:20250826T193000
DTEND;TZID=America/Toronto:20250826T210000
DTSTAMP:20260419T235152
CREATED:20250807T115527Z
LAST-MODIFIED:20250807T115826Z
UID:4678-1756236600-1756242000@germaniaclub.ca
SUMMARY:Oktoberfest Planning Committee Meeting
DESCRIPTION:Still spaces to volunteer on the day of the event\, including ticket sales at the door. \nIf interested in volunteering\, click the link below to sign-up: \nVolunteer at Germania Club
URL:https://germaniaclub.ca/event/oktoberfest-planning-committee-meeting/
LOCATION:Germania Club Restaurant
END:VEVENT
BEGIN:VEVENT
DTSTART;TZID=UTC:20250824T130000
DTEND;TZID=UTC:20250824T190000
DTSTAMP:20260419T235152
CREATED:20250710T200813Z
LAST-MODIFIED:20250801T052246Z
UID:2328-1756040400-1756062000@germaniaclub.ca
SUMMARY:Campers’ Annual Pig/Chicken Roast
DESCRIPTION:More details at: Annual Campers’ Pig and Chicken Roast 2025 – Germania Park \nRegister at: Annual Pig Roast – registration – Germania Park
URL:https://germaniaclub.ca/event/campers-annual-pig-chicken-roast/
LOCATION:Germania Park\, 4240 Trinity Church Rd.\, Binbrook\, ON\, L0R 1W0\, Canada
END:VEVENT
BEGIN:VEVENT
DTSTART;TZID=UTC:20250810T120000
DTEND;TZID=UTC:20250810T160000
DTSTAMP:20260419T235152
CREATED:20250630T061551Z
LAST-MODIFIED:20250807T222033Z
UID:860-1754827200-1754841600@germaniaclub.ca
SUMMARY:Germania Club Picnic
DESCRIPTION:Gates will be open at 11 AM
URL:https://germaniaclub.ca/event/germania-club-picnic/
LOCATION:Germania Park\, 4240 Trinity Church Rd.\, Binbrook\, ON\, L0R 1W0\, Canada
END:VEVENT
BEGIN:VEVENT
DTSTART;TZID=UTC:20250711T160000
DTEND;TZID=UTC:20250711T200000
DTSTAMP:20260419T235152
CREATED:20250710T224611Z
LAST-MODIFIED:20250710T224611Z
UID:2338-1752249600-1752264000@germaniaclub.ca
SUMMARY:Germania Restaurant - open
DESCRIPTION:
URL:https://germaniaclub.ca/event/germania-restaurant-open-2/
LOCATION:Germania Club Restaurant
END:VEVENT
BEGIN:VEVENT
DTSTART;TZID=UTC:20250711T080000
DTEND;TZID=UTC:20250711T080000
DTSTAMP:20260419T235152
CREATED:20250710T224047Z
LAST-MODIFIED:20250710T224207Z
UID:2332-1752220800-1752220800@germaniaclub.ca
SUMMARY:Pub Night
DESCRIPTION:
URL:https://germaniaclub.ca/event/pub-night/
LOCATION:Germania Club Rathskeller\, 863 King Street East\, Hamilton\, ON\, Canada
END:VEVENT
BEGIN:VEVENT
DTSTART;TZID=UTC:20250710T160000
DTEND;TZID=UTC:20250710T200000
DTSTAMP:20260419T235152
CREATED:20250710T224523Z
LAST-MODIFIED:20250710T224523Z
UID:2335-1752163200-1752177600@germaniaclub.ca
SUMMARY:Germania Restaurant - open
DESCRIPTION:
URL:https://germaniaclub.ca/event/germania-restaurant-open/
LOCATION:Germania Club Restaurant
END:VEVENT
BEGIN:VEVENT
DTSTART;TZID=UTC:20250706T120000
DTEND;TZID=UTC:20250706T200000
DTSTAMP:20260419T235152
CREATED:20250630T055639Z
LAST-MODIFIED:20250702T021438Z
UID:857-1751803200-1751832000@germaniaclub.ca
SUMMARY:Strawberry Festival
DESCRIPTION:
URL:https://germaniaclub.ca/event/strawberry-festival/
LOCATION:Germania Park\, 4240 Trinity Church Rd.\, Binbrook\, ON\, L0R 1W0\, Canada
END:VEVENT
END:VCALENDAR