BEGIN:VCALENDAR
VERSION:2.0
PRODID:-//Germania Club of Hamilton - ECPv6.15.20//NONSGML v1.0//EN
CALSCALE:GREGORIAN
METHOD:PUBLISH
X-WR-CALNAME:Germania Club of Hamilton
X-ORIGINAL-URL:https://germaniaclub.ca
X-WR-CALDESC:Events for Germania Club of Hamilton
REFRESH-INTERVAL;VALUE=DURATION:PT1H
X-Robots-Tag:noindex
X-PUBLISHED-TTL:PT1H
BEGIN:VTIMEZONE
TZID:UTC
BEGIN:STANDARD
TZOFFSETFROM:+0000
TZOFFSETTO:+0000
TZNAME:UTC
DTSTART:20240101T000000
END:STANDARD
END:VTIMEZONE
BEGIN:VTIMEZONE
TZID:America/Toronto
BEGIN:DAYLIGHT
TZOFFSETFROM:-0500
TZOFFSETTO:-0400
TZNAME:EDT
DTSTART:20240310T070000
END:DAYLIGHT
BEGIN:STANDARD
TZOFFSETFROM:-0400
TZOFFSETTO:-0500
TZNAME:EST
DTSTART:20241103T060000
END:STANDARD
BEGIN:DAYLIGHT
TZOFFSETFROM:-0500
TZOFFSETTO:-0400
TZNAME:EDT
DTSTART:20250309T070000
END:DAYLIGHT
BEGIN:STANDARD
TZOFFSETFROM:-0400
TZOFFSETTO:-0500
TZNAME:EST
DTSTART:20251102T060000
END:STANDARD
BEGIN:DAYLIGHT
TZOFFSETFROM:-0500
TZOFFSETTO:-0400
TZNAME:EDT
DTSTART:20260308T070000
END:DAYLIGHT
BEGIN:STANDARD
TZOFFSETFROM:-0400
TZOFFSETTO:-0500
TZNAME:EST
DTSTART:20261101T060000
END:STANDARD
BEGIN:DAYLIGHT
TZOFFSETFROM:-0500
TZOFFSETTO:-0400
TZNAME:EDT
DTSTART:20270314T070000
END:DAYLIGHT
BEGIN:STANDARD
TZOFFSETFROM:-0400
TZOFFSETTO:-0500
TZNAME:EST
DTSTART:20271107T060000
END:STANDARD
END:VTIMEZONE
BEGIN:VEVENT
DTSTART;TZID=UTC:20251214T140000
DTEND;TZID=UTC:20251214T180000
DTSTAMP:20260421T015151
CREATED:20250729T012104Z
LAST-MODIFIED:20250729T071049Z
UID:4658-1765720800-1765735200@germaniaclub.ca
SUMMARY:Christmas Sing Along with the Choir
DESCRIPTION:
URL:https://germaniaclub.ca/event/christmas-sing-along-with-the-choir/
LOCATION:Germania Club of Hamilton\, 863 King St.E.\, Hamilton\, ON\, L8M 1B5\, Canada
END:VEVENT
BEGIN:VEVENT
DTSTART;TZID=America/Toronto:20251218T170000
DTEND;TZID=America/Toronto:20251218T210000
DTSTAMP:20260421T015151
CREATED:20251216T021400Z
LAST-MODIFIED:20251216T023735Z
UID:5680-1766077200-1766091600@germaniaclub.ca
SUMMARY:Celebration of life for Klaus Ludecke
DESCRIPTION:Join us on December 18th—Klaus’s birthday—to celebrate his life one last time. We’ll gather from 5:00 p.m. until people run out of stories to share. \nFood and drinks will be provided.
URL:https://germaniaclub.ca/event/celebration-of-life-for-klaus-ludecke/
LOCATION:Germania Club of Hamilton\, 863 King St.E.\, Hamilton\, ON\, L8M 1B5\, Canada
ATTACH;FMTTYPE=image/jpeg:https://germaniaclub.ca/wp-content/uploads/2025/11/WhatsApp-Image-2025-11-18-at-19.13.12_967b5e33-1.jpg
END:VEVENT
BEGIN:VEVENT
DTSTART;TZID=America/Toronto:20251231T133000
DTEND;TZID=America/Toronto:20251231T210000
DTSTAMP:20260421T015151
CREATED:20251030T115125Z
LAST-MODIFIED:20251120T182927Z
UID:5499-1767187800-1767214800@germaniaclub.ca
SUMMARY:New Year Eve
DESCRIPTION:Ring in the New Year on German Time with Die Powerhaus Band\n \n 
URL:https://germaniaclub.ca/event/new-year-eve/
LOCATION:Germania Club Large Hall\, 863 King Street East\, Hamilton\, ON\, L8M 1B5\, Canada
ATTACH;FMTTYPE=image/jpeg:https://germaniaclub.ca/wp-content/uploads/2025/10/GC-NYE-Invite.jpg
END:VEVENT
BEGIN:VEVENT
DTSTART;VALUE=DATE:20260217
DTEND;VALUE=DATE:20260218
DTSTAMP:20260421T015151
CREATED:20251218T125953Z
LAST-MODIFIED:20251218T125953Z
UID:5684-1771286400-1771372799@germaniaclub.ca
SUMMARY:Fat Tuesday
DESCRIPTION:
URL:https://germaniaclub.ca/event/fat-tuesday/
LOCATION:Germania Club of Hamilton\, 863 King St.E.\, Hamilton\, ON\, L8M 1B5\, Canada
END:VEVENT
BEGIN:VEVENT
DTSTART;TZID=America/Toronto:20260322T113000
DTEND;TZID=America/Toronto:20260322T180000
DTSTAMP:20260421T015151
CREATED:20251218T130110Z
LAST-MODIFIED:20260311T011807Z
UID:5686-1774179000-1774202400@germaniaclub.ca
SUMMARY:Annual General Meeting
DESCRIPTION:
URL:https://germaniaclub.ca/event/annual-general-meeting/
LOCATION:Germania Club Large Hall\, 863 King Street East\, Hamilton\, ON\, L8M 1B5\, Canada
END:VEVENT
BEGIN:VEVENT
DTSTART;VALUE=DATE:20260403
DTEND;VALUE=DATE:20260404
DTSTAMP:20260421T015151
CREATED:20251218T130156Z
LAST-MODIFIED:20260217T020326Z
UID:5688-1775174400-1775260799@germaniaclub.ca
SUMMARY:Easter Egg Hunt
DESCRIPTION:
URL:https://germaniaclub.ca/event/easter-egg-hunt/
LOCATION:Germania Club of Hamilton\, 863 King St.E.\, Hamilton\, ON\, L8M 1B5\, Canada
END:VEVENT
BEGIN:VEVENT
DTSTART;VALUE=DATE:20260503
DTEND;VALUE=DATE:20260504
DTSTAMP:20260421T015151
CREATED:20260306T031317Z
LAST-MODIFIED:20260306T031519Z
UID:5807-1777766400-1777852799@germaniaclub.ca
SUMMARY:Maifest 2026
DESCRIPTION:Bring your family & friends to welcome spring with a social afternoon at our park in Binbrook!\nCome and try your luck at target shooting….great prizes to be won!\nA hamburger lunch will be available along with drinks and donuts! \nRain or Shine \n 
URL:https://germaniaclub.ca/event/maifest-2026/
LOCATION:Germania Park\, 4240 Trinity Church Rd.\, Binbrook\, ON\, L0R 1W0\, Canada
END:VEVENT
BEGIN:VEVENT
DTSTART;VALUE=DATE:20260612
DTEND;VALUE=DATE:20260706
DTSTAMP:20260421T015151
CREATED:20251218T130525Z
LAST-MODIFIED:20251218T130525Z
UID:5690-1781222400-1783295999@germaniaclub.ca
SUMMARY:World Cup\, German games
DESCRIPTION:
URL:https://germaniaclub.ca/event/world-cup-german-games/
LOCATION:Germania Club of Hamilton\, 863 King St.E.\, Hamilton\, ON\, L8M 1B5\, Canada
END:VEVENT
BEGIN:VEVENT
DTSTART;TZID=America/Toronto:20260919T080000
DTEND;TZID=America/Toronto:20260919T170000
DTSTAMP:20260421T015151
CREATED:20251218T130613Z
LAST-MODIFIED:20251218T130613Z
UID:5692-1789804800-1789837200@germaniaclub.ca
SUMMARY:Oktoberfest
DESCRIPTION:
URL:https://germaniaclub.ca/event/oktoberfest/
LOCATION:Germania Club of Hamilton\, 863 King St.E.\, Hamilton\, ON\, L8M 1B5\, Canada
END:VEVENT
BEGIN:VEVENT
DTSTART;VALUE=DATE:20261003
DTEND;VALUE=DATE:20261004
DTSTAMP:20260421T015151
CREATED:20251218T130649Z
LAST-MODIFIED:20251218T130649Z
UID:5694-1790985600-1791071999@germaniaclub.ca
SUMMARY:Stiftungsfest
DESCRIPTION:
URL:https://germaniaclub.ca/event/stiftungsfest-2/
LOCATION:ON
END:VEVENT
BEGIN:VEVENT
DTSTART;VALUE=DATE:20261108
DTEND;VALUE=DATE:20261109
DTSTAMP:20260421T015151
CREATED:20251218T130741Z
LAST-MODIFIED:20251218T130741Z
UID:5696-1794096000-1794182399@germaniaclub.ca
SUMMARY:Memorial
DESCRIPTION:
URL:https://germaniaclub.ca/event/memorial/
LOCATION:Germania Park\, 4240 Trinity Church Rd.\, Binbrook\, ON\, L0R 1W0\, Canada
END:VEVENT
BEGIN:VEVENT
DTSTART;VALUE=DATE:20261115
DTEND;VALUE=DATE:20261116
DTSTAMP:20260421T015151
CREATED:20251218T130853Z
LAST-MODIFIED:20251218T130853Z
UID:5698-1794700800-1794787199@germaniaclub.ca
SUMMARY:Frauenverein Craft Sale & Bazaar
DESCRIPTION:
URL:https://germaniaclub.ca/event/frauenverein-craft-sale-bazaar-2/
LOCATION:Germania Club of Hamilton\, 863 King St.E.\, Hamilton\, ON\, L8M 1B5\, Canada
END:VEVENT
BEGIN:VEVENT
DTSTART;VALUE=DATE:20261231
DTEND;VALUE=DATE:20270101
DTSTAMP:20260421T015151
CREATED:20251218T130940Z
LAST-MODIFIED:20251218T130940Z
UID:5700-1798675200-1798761599@germaniaclub.ca
SUMMARY:New Year Eve
DESCRIPTION:
URL:https://germaniaclub.ca/event/new-year-eve-2/
LOCATION:Germania Club of Hamilton\, 863 King St.E.\, Hamilton\, ON\, L8M 1B5\, Canada
END:VEVENT
END:VCALENDAR